Package: tracktables Version: 1.41.0 Command: /Library/Frameworks/R.framework/Resources/bin/R CMD build --keep-empty-dirs --no-resave-data tracktables StartedAt: 2025-02-20 18:32:26 -0500 (Thu, 20 Feb 2025) EndedAt: 2025-02-20 18:32:53 -0500 (Thu, 20 Feb 2025) EllapsedTime: 27.4 seconds RetCode: 0 Status: OK PackageFile: tracktables_1.41.0.tar.gz PackageFileSize: 356.2 KiB