Package: tracktables Version: 1.41.0 Command: /Library/Frameworks/R.framework/Resources/bin/R CMD build --keep-empty-dirs --no-resave-data tracktables StartedAt: 2025-02-20 17:49:06 -0500 (Thu, 20 Feb 2025) EndedAt: 2025-02-20 17:49:17 -0500 (Thu, 20 Feb 2025) EllapsedTime: 11.1 seconds RetCode: 0 Status: OK PackageFile: tracktables_1.41.0.tar.gz PackageFileSize: 355.8 KiB