Package: tracktables Version: 1.41.0 Command: rm -rf tracktables.buildbin-libdir && mkdir tracktables.buildbin-libdir && /Users/biocbuild/BBS/utils/build-universal.sh tracktables_1.41.0.tar.gz /Library/Frameworks/R.framework/Resources/bin/R tracktables.buildbin-libdir StartedAt: 2025-02-20 22:38:24 -0500 (Thu, 20 Feb 2025) EndedAt: 2025-02-20 22:38:30 -0500 (Thu, 20 Feb 2025) EllapsedTime: 6.2 seconds RetCode: 0 Status: OK PackageFile: tracktables_1.41.0.tgz PackageFileSize: 404.1 KiB