Package: trackViewer Version: 1.43.6 Command: E:\biocbuild\bbs-3.21-bioc\R\bin\R.exe CMD INSTALL trackViewer StartedAt: 2025-02-20 16:39:11 -0500 (Thu, 20 Feb 2025) EndedAt: 2025-02-20 16:41:05 -0500 (Thu, 20 Feb 2025) EllapsedTime: 114.7 seconds RetCode: 0 Status: OK