Package: trackViewer Version: 1.43.6 Command: E:\biocbuild\bbs-3.21-bioc\R\bin\R.exe CMD check --no-multiarch --install=check:trackViewer.install-out.txt --library=E:\biocbuild\bbs-3.21-bioc\R\library --no-vignettes --timings trackViewer_1.43.6.tar.gz StartedAt: 2025-02-21 06:36:32 -0500 (Fri, 21 Feb 2025) EndedAt: 2025-02-21 06:46:03 -0500 (Fri, 21 Feb 2025) EllapsedTime: 571.0 seconds RetCode: 0 Status: OK CheckDir: trackViewer.Rcheck Warnings: 0