Package: trackViewer Version: 1.43.6 Command: chmod a+r trackViewer -R && E:\biocbuild\bbs-3.21-bioc\R\bin\R.exe CMD build --keep-empty-dirs --no-resave-data trackViewer StartedAt: 2025-02-20 22:18:14 -0500 (Thu, 20 Feb 2025) EndedAt: 2025-02-20 22:31:24 -0500 (Thu, 20 Feb 2025) EllapsedTime: 790.1 seconds RetCode: 0 Status: OK PackageFile: trackViewer_1.43.6.tar.gz PackageFileSize: 5.584 MiB