Package: trackViewer Version: 1.43.6 Command: /Library/Frameworks/R.framework/Resources/bin/R CMD check --install=check:trackViewer.install-out.txt --library=/Library/Frameworks/R.framework/Resources/library --no-vignettes --timings trackViewer_1.43.6.tar.gz StartedAt: 2025-02-20 23:48:33 -0500 (Thu, 20 Feb 2025) EndedAt: 2025-02-20 23:57:25 -0500 (Thu, 20 Feb 2025) EllapsedTime: 532.7 seconds RetCode: 0 Status: OK CheckDir: trackViewer.Rcheck Warnings: 0