Package: trackViewer Version: 1.43.6 Command: /Library/Frameworks/R.framework/Resources/bin/R CMD build --keep-empty-dirs --no-resave-data trackViewer StartedAt: 2025-02-20 18:32:29 -0500 (Thu, 20 Feb 2025) EndedAt: 2025-02-20 18:42:55 -0500 (Thu, 20 Feb 2025) EllapsedTime: 626.1 seconds RetCode: 0 Status: OK PackageFile: trackViewer_1.43.6.tar.gz PackageFileSize: 12.48 MiB