Package: tpSVG Version: 1.3.0 Command: /Library/Frameworks/R.framework/Resources/bin/R CMD INSTALL tpSVG StartedAt: 2025-02-18 15:44:01 -0500 (Tue, 18 Feb 2025) EndedAt: 2025-02-18 15:44:33 -0500 (Tue, 18 Feb 2025) EllapsedTime: 31.5 seconds RetCode: 0 Status: OK