Package: tpSVG Version: 1.3.0 Command: /Library/Frameworks/R.framework/Resources/bin/R CMD build --keep-empty-dirs --no-resave-data tpSVG StartedAt: 2025-02-18 18:30:08 -0500 (Tue, 18 Feb 2025) EndedAt: 2025-02-18 18:31:40 -0500 (Tue, 18 Feb 2025) EllapsedTime: 92.5 seconds RetCode: 0 Status: OK PackageFile: tpSVG_1.3.0.tar.gz PackageFileSize: 1.237 MiB