Package: topdownr Version: 1.29.0 Command: E:\biocbuild\bbs-3.21-bioc\R\bin\R.exe CMD INSTALL topdownr StartedAt: 2025-02-18 16:34:57 -0500 (Tue, 18 Feb 2025) EndedAt: 2025-02-18 16:36:15 -0500 (Tue, 18 Feb 2025) EllapsedTime: 78.5 seconds RetCode: 0 Status: OK