Package: topdownr Version: 1.29.0 Command: E:\biocbuild\bbs-3.21-bioc\R\bin\R.exe CMD check --no-multiarch --install=check:topdownr.install-out.txt --library=E:\biocbuild\bbs-3.21-bioc\R\library --no-vignettes --timings topdownr_1.29.0.tar.gz StartedAt: 2025-02-19 06:07:24 -0500 (Wed, 19 Feb 2025) EndedAt: 2025-02-19 06:14:14 -0500 (Wed, 19 Feb 2025) EllapsedTime: 410.5 seconds RetCode: 0 Status: WARNINGS CheckDir: topdownr.Rcheck Warnings: 1