Package: topdownr Version: 1.29.0 Command: /home/biocbuild/bbs-3.21-bioc/R/bin/R CMD INSTALL topdownr StartedAt: 2025-02-18 15:34:12 -0500 (Tue, 18 Feb 2025) EndedAt: 2025-02-18 15:34:55 -0500 (Tue, 18 Feb 2025) EllapsedTime: 42.7 seconds RetCode: 0 Status: OK