Package: topdownr Version: 1.29.0 Command: /home/biocbuild/bbs-3.21-bioc/R/bin/R CMD check --install=check:topdownr.install-out.txt --library=/home/biocbuild/bbs-3.21-bioc/R/site-library --timings topdownr_1.29.0.tar.gz StartedAt: 2025-02-19 02:59:01 -0500 (Wed, 19 Feb 2025) EndedAt: 2025-02-19 03:05:44 -0500 (Wed, 19 Feb 2025) EllapsedTime: 403.5 seconds RetCode: 0 Status: OK CheckDir: topdownr.Rcheck Warnings: 0