Package: topdownr Version: 1.29.0 Command: /Library/Frameworks/R.framework/Resources/bin/R CMD INSTALL topdownr StartedAt: 2025-02-18 15:29:07 -0500 (Tue, 18 Feb 2025) EndedAt: 2025-02-18 15:30:05 -0500 (Tue, 18 Feb 2025) EllapsedTime: 57.8 seconds RetCode: 0 Status: OK