Package: topdownr Version: 1.29.0 Command: /Library/Frameworks/R.framework/Resources/bin/R CMD check --install=check:topdownr.install-out.txt --library=/Library/Frameworks/R.framework/Resources/library --no-vignettes --timings topdownr_1.29.0.tar.gz StartedAt: 2025-02-18 23:42:05 -0500 (Tue, 18 Feb 2025) EndedAt: 2025-02-18 23:48:26 -0500 (Tue, 18 Feb 2025) EllapsedTime: 381.2 seconds RetCode: 0 Status: OK CheckDir: topdownr.Rcheck Warnings: 0