Package: topdownr Version: 1.29.0 Command: /Library/Frameworks/R.framework/Resources/bin/R CMD build --keep-empty-dirs --no-resave-data topdownr StartedAt: 2025-02-18 17:51:51 -0500 (Tue, 18 Feb 2025) EndedAt: 2025-02-18 17:52:27 -0500 (Tue, 18 Feb 2025) EllapsedTime: 36.4 seconds RetCode: 0 Status: OK PackageFile: topdownr_1.29.0.tar.gz PackageFileSize: 1.525 MiB