Package: topconfects Version: 1.23.2 Command: /home/biocbuild/bbs-3.21-bioc/R/bin/R CMD INSTALL topconfects StartedAt: 2025-02-18 15:06:48 -0500 (Tue, 18 Feb 2025) EndedAt: 2025-02-18 15:07:15 -0500 (Tue, 18 Feb 2025) EllapsedTime: 26.8 seconds RetCode: 0 Status: OK