Package: topconfects Version: 1.23.2 Command: /home/biocbuild/bbs-3.21-bioc/R/bin/R CMD check --install=check:topconfects.install-out.txt --library=/home/biocbuild/bbs-3.21-bioc/R/site-library --timings topconfects_1.23.2.tar.gz StartedAt: 2025-02-19 02:58:57 -0500 (Wed, 19 Feb 2025) EndedAt: 2025-02-19 03:01:59 -0500 (Wed, 19 Feb 2025) EllapsedTime: 182.3 seconds RetCode: 0 Status: OK CheckDir: topconfects.Rcheck Warnings: 0