Package: topconfects Version: 1.23.2 Command: /home/biocbuild/bbs-3.21-bioc/R/bin/R CMD build --keep-empty-dirs --no-resave-data topconfects StartedAt: 2025-02-18 19:27:37 -0500 (Tue, 18 Feb 2025) EndedAt: 2025-02-18 19:29:30 -0500 (Tue, 18 Feb 2025) EllapsedTime: 113.2 seconds RetCode: 0 Status: OK PackageFile: topconfects_1.23.2.tar.gz PackageFileSize: 3.598 MiB