Package: topconfects Version: 1.23.2 Command: /Library/Frameworks/R.framework/Resources/bin/R CMD INSTALL topconfects StartedAt: 2025-02-18 15:05:50 -0500 (Tue, 18 Feb 2025) EndedAt: 2025-02-18 15:05:52 -0500 (Tue, 18 Feb 2025) EllapsedTime: 2.6 seconds RetCode: 0 Status: OK