Package: topGO Version: 2.59.0 Command: /home/biocbuild/bbs-3.21-bioc/R/bin/R CMD check --install=check:topGO.install-out.txt --library=/home/biocbuild/bbs-3.21-bioc/R/site-library --timings topGO_2.59.0.tar.gz StartedAt: 2025-02-20 03:15:53 -0500 (Thu, 20 Feb 2025) EndedAt: 2025-02-20 03:19:42 -0500 (Thu, 20 Feb 2025) EllapsedTime: 228.3 seconds RetCode: 0 Status: WARNINGS CheckDir: topGO.Rcheck Warnings: 1