Package: topGO Version: 2.59.0 Command: /Library/Frameworks/R.framework/Resources/bin/R CMD check --install=check:topGO.install-out.txt --library=/Library/Frameworks/R.framework/Resources/library --no-vignettes --timings topGO_2.59.0.tar.gz StartedAt: 2025-02-20 23:47:55 -0500 (Thu, 20 Feb 2025) EndedAt: 2025-02-20 23:50:17 -0500 (Thu, 20 Feb 2025) EllapsedTime: 142.6 seconds RetCode: 0 Status: WARNINGS CheckDir: topGO.Rcheck Warnings: 1