Package: topGO Version: 2.59.0 Command: /Library/Frameworks/R.framework/Resources/bin/R CMD build --keep-empty-dirs --no-resave-data topGO StartedAt: 2025-02-20 18:32:10 -0500 (Thu, 20 Feb 2025) EndedAt: 2025-02-20 18:34:19 -0500 (Thu, 20 Feb 2025) EllapsedTime: 129.2 seconds RetCode: 0 Status: OK PackageFile: topGO_2.59.0.tar.gz PackageFileSize: 1.907 MiB