Package: tomoseqr Version: 1.11.0 Command: /home/biocbuild/bbs-3.21-bioc/R/bin/R CMD check --install=check:tomoseqr.install-out.txt --library=/home/biocbuild/bbs-3.21-bioc/R/site-library --timings tomoseqr_1.11.0.tar.gz StartedAt: 2025-02-21 02:36:00 -0500 (Fri, 21 Feb 2025) EndedAt: 2025-02-21 02:37:03 -0500 (Fri, 21 Feb 2025) EllapsedTime: 63.1 seconds RetCode: 0 Status: OK CheckDir: tomoseqr.Rcheck Warnings: 0