Package: tomoseqr Version: 1.11.0 Command: /home/biocbuild/bbs-3.21-bioc/R/bin/R CMD build --keep-empty-dirs --no-resave-data tomoseqr StartedAt: 2025-02-21 19:57:54 -0500 (Fri, 21 Feb 2025) EndedAt: 2025-02-21 19:58:10 -0500 (Fri, 21 Feb 2025) EllapsedTime: 16.0 seconds RetCode: 0 Status: OK PackageFile: tomoseqr_1.11.0.tar.gz PackageFileSize: 1.558 MiB