Package: tomoseqr Version: 1.11.0 Command: /Library/Frameworks/R.framework/Resources/bin/R CMD build --keep-empty-dirs --no-resave-data tomoseqr StartedAt: 2025-02-20 18:31:56 -0500 (Thu, 20 Feb 2025) EndedAt: 2025-02-20 18:32:17 -0500 (Thu, 20 Feb 2025) EllapsedTime: 20.6 seconds RetCode: 0 Status: OK PackageFile: tomoseqr_1.11.0.tar.gz PackageFileSize: 1.558 MiB