Package: tomoseqr Version: 1.11.0 Command: rm -rf tomoseqr.buildbin-libdir && mkdir tomoseqr.buildbin-libdir && /Users/biocbuild/BBS/utils/build-universal.sh tomoseqr_1.11.0.tar.gz /Library/Frameworks/R.framework/Resources/bin/R tomoseqr.buildbin-libdir StartedAt: 2025-02-21 00:57:45 -0500 (Fri, 21 Feb 2025) EndedAt: 2025-02-21 00:57:57 -0500 (Fri, 21 Feb 2025) EllapsedTime: 12.7 seconds RetCode: 0 Status: OK PackageFile: tomoseqr_1.11.0.tgz PackageFileSize: 1.22 MiB