Package: tomoda Version: 1.17.0 Command: chmod a+r tomoda -R && E:\biocbuild\bbs-3.21-bioc\R\bin\R.exe CMD build --keep-empty-dirs --no-resave-data tomoda StartedAt: 2025-02-18 22:03:11 -0500 (Tue, 18 Feb 2025) EndedAt: 2025-02-18 22:04:57 -0500 (Tue, 18 Feb 2025) EllapsedTime: 106.7 seconds RetCode: 0 Status: OK PackageFile: tomoda_1.17.0.tar.gz PackageFileSize: 1.917 MiB