Package: tomoda Version: 1.17.0 Command: /Library/Frameworks/R.framework/Resources/bin/R CMD check --install=check:tomoda.install-out.txt --library=/Library/Frameworks/R.framework/Resources/library --no-vignettes --timings tomoda_1.17.0.tar.gz StartedAt: 2025-02-20 23:47:00 -0500 (Thu, 20 Feb 2025) EndedAt: 2025-02-20 23:53:29 -0500 (Thu, 20 Feb 2025) EllapsedTime: 389.7 seconds RetCode: 0 Status: OK CheckDir: tomoda.Rcheck Warnings: 0