Package: tomoda Version: 1.17.0 Command: /Library/Frameworks/R.framework/Resources/bin/R CMD build --keep-empty-dirs --no-resave-data tomoda StartedAt: 2025-02-20 18:31:49 -0500 (Thu, 20 Feb 2025) EndedAt: 2025-02-20 18:33:13 -0500 (Thu, 20 Feb 2025) EllapsedTime: 83.4 seconds RetCode: 0 Status: OK PackageFile: tomoda_1.17.0.tar.gz PackageFileSize: 2.9 MiB