Package: tkWidgets Version: 1.85.0 Command: E:\biocbuild\bbs-3.21-bioc\R\bin\R.exe CMD INSTALL tkWidgets StartedAt: 2025-02-18 15:27:15 -0500 (Tue, 18 Feb 2025) EndedAt: 2025-02-18 15:27:58 -0500 (Tue, 18 Feb 2025) EllapsedTime: 42.2 seconds RetCode: 0 Status: OK