Package: tkWidgets Version: 1.85.0 Command: /home/biocbuild/bbs-3.21-bioc/R/bin/R CMD check --install=check:tkWidgets.install-out.txt --library=/home/biocbuild/bbs-3.21-bioc/R/site-library --timings tkWidgets_1.85.0.tar.gz StartedAt: 2025-02-19 02:57:11 -0500 (Wed, 19 Feb 2025) EndedAt: 2025-02-19 02:57:46 -0500 (Wed, 19 Feb 2025) EllapsedTime: 35.0 seconds RetCode: 0 Status: OK CheckDir: tkWidgets.Rcheck Warnings: 0