Package: timescape Version: 1.31.0 Command: E:\biocbuild\bbs-3.21-bioc\R\bin\R.exe CMD INSTALL timescape StartedAt: 2025-02-19 16:19:23 -0500 (Wed, 19 Feb 2025) EndedAt: 2025-02-19 16:19:33 -0500 (Wed, 19 Feb 2025) EllapsedTime: 10.1 seconds RetCode: 0 Status: OK