Package: timescape Version: 1.31.0 Command: /home/biocbuild/bbs-3.21-bioc/R/bin/R CMD build --keep-empty-dirs --no-resave-data timescape StartedAt: 2025-02-19 19:33:25 -0500 (Wed, 19 Feb 2025) EndedAt: 2025-02-19 19:33:30 -0500 (Wed, 19 Feb 2025) EllapsedTime: 5.0 seconds RetCode: 0 Status: OK PackageFile: timescape_1.31.0.tar.gz PackageFileSize: 672.5 KiB