Package: timescape Version: 1.31.0 Command: /Library/Frameworks/R.framework/Resources/bin/R CMD build --keep-empty-dirs --no-resave-data timescape StartedAt: 2025-02-19 18:31:41 -0500 (Wed, 19 Feb 2025) EndedAt: 2025-02-19 18:31:49 -0500 (Wed, 19 Feb 2025) EllapsedTime: 8.1 seconds RetCode: 0 Status: OK PackageFile: timescape_1.31.0.tar.gz PackageFileSize: 672.5 KiB