Package: timeOmics Version: 1.19.0 Command: E:\biocbuild\bbs-3.21-bioc\R\bin\R.exe CMD check --no-multiarch --install=check:timeOmics.install-out.txt --library=E:\biocbuild\bbs-3.21-bioc\R\library --no-vignettes --timings timeOmics_1.19.0.tar.gz StartedAt: 2025-02-21 06:32:19 -0500 (Fri, 21 Feb 2025) EndedAt: 2025-02-21 06:35:26 -0500 (Fri, 21 Feb 2025) EllapsedTime: 187.0 seconds RetCode: 0 Status: WARNINGS CheckDir: timeOmics.Rcheck Warnings: 2