Package: timeOmics Version: 1.19.0 Command: rm -rf timeOmics.buildbin-libdir && mkdir timeOmics.buildbin-libdir && E:\biocbuild\bbs-3.21-bioc\R\bin\R.exe CMD INSTALL --build --library=timeOmics.buildbin-libdir timeOmics_1.19.0.tar.gz StartedAt: 2025-02-21 09:16:18 -0500 (Fri, 21 Feb 2025) EndedAt: 2025-02-21 09:17:16 -0500 (Fri, 21 Feb 2025) EllapsedTime: 57.9 seconds RetCode: 0 Status: OK PackageFile: timeOmics_1.19.0.zip PackageFileSize: 2.249 MiB