Package: timeOmics Version: 1.19.0 Command: /home/biocbuild/bbs-3.21-bioc/R/bin/R CMD INSTALL timeOmics StartedAt: 2025-02-20 15:16:56 -0500 (Thu, 20 Feb 2025) EndedAt: 2025-02-20 15:17:05 -0500 (Thu, 20 Feb 2025) EllapsedTime: 9.3 seconds RetCode: 0 Status: OK