Package: timeOmics Version: 1.19.0 Command: /home/biocbuild/bbs-3.21-bioc/R/bin/R CMD check --install=check:timeOmics.install-out.txt --library=/home/biocbuild/bbs-3.21-bioc/R/site-library --timings timeOmics_1.19.0.tar.gz StartedAt: 2025-02-21 02:33:47 -0500 (Fri, 21 Feb 2025) EndedAt: 2025-02-21 02:36:36 -0500 (Fri, 21 Feb 2025) EllapsedTime: 169.2 seconds RetCode: 0 Status: WARNINGS CheckDir: timeOmics.Rcheck Warnings: 2