Package: timeOmics Version: 1.19.0 Command: /home/biocbuild/bbs-3.21-bioc/R/bin/R CMD build --keep-empty-dirs --no-resave-data timeOmics StartedAt: 2025-02-20 19:35:59 -0500 (Thu, 20 Feb 2025) EndedAt: 2025-02-20 19:36:33 -0500 (Thu, 20 Feb 2025) EllapsedTime: 34.1 seconds RetCode: 0 Status: OK PackageFile: timeOmics_1.19.0.tar.gz PackageFileSize: 3.976 MiB