Package: timeOmics Version: 1.19.0 Command: /Library/Frameworks/R.framework/Resources/bin/R CMD INSTALL timeOmics StartedAt: 2025-02-20 15:24:08 -0500 (Thu, 20 Feb 2025) EndedAt: 2025-02-20 15:24:23 -0500 (Thu, 20 Feb 2025) EllapsedTime: 14.6 seconds RetCode: 0 Status: OK