Package: tilingArray Version: 1.85.0 Command: /home/biocbuild/bbs-3.21-bioc/R/bin/R CMD build --keep-empty-dirs --no-resave-data tilingArray StartedAt: 2025-02-18 19:26:39 -0500 (Tue, 18 Feb 2025) EndedAt: 2025-02-18 19:27:14 -0500 (Tue, 18 Feb 2025) EllapsedTime: 35.0 seconds RetCode: 0 Status: OK PackageFile: tilingArray_1.85.0.tar.gz PackageFileSize: 3.487 MiB