Package: tilingArray Version: 1.86.0 Command: rm -rf tilingArray.buildbin-libdir && mkdir tilingArray.buildbin-libdir && /Users/biocbuild/BBS/utils/build-universal.sh tilingArray_1.86.0.tar.gz /Library/Frameworks/R.framework/Resources/bin/R tilingArray.buildbin-libdir StartedAt: 2025-10-14 14:58:00 -0400 (Tue, 14 Oct 2025) EndedAt: 2025-10-14 14:59:02 -0400 (Tue, 14 Oct 2025) EllapsedTime: 61.8 seconds RetCode: 0 Status: OK PackageFile: tilingArray_1.86.0.tgz PackageFileSize: 3.88 MiB