Package: tigre Version: 1.61.0 Command: E:\biocbuild\bbs-3.21-bioc\R\bin\R.exe CMD INSTALL tigre StartedAt: 2025-02-20 15:44:34 -0500 (Thu, 20 Feb 2025) EndedAt: 2025-02-20 15:45:38 -0500 (Thu, 20 Feb 2025) EllapsedTime: 63.6 seconds RetCode: 0 Status: OK