Package: tigre Version: 1.61.0 Command: /home/biocbuild/bbs-3.21-bioc/R/bin/R CMD INSTALL tigre StartedAt: 2025-02-20 15:37:21 -0500 (Thu, 20 Feb 2025) EndedAt: 2025-02-20 15:37:40 -0500 (Thu, 20 Feb 2025) EllapsedTime: 19.0 seconds RetCode: 0 Status: OK