Package: tigre Version: 1.61.0 Command: /Library/Frameworks/R.framework/Resources/bin/R CMD build --keep-empty-dirs --no-resave-data tigre StartedAt: 2025-02-20 18:31:04 -0500 (Thu, 20 Feb 2025) EndedAt: 2025-02-20 18:33:09 -0500 (Thu, 20 Feb 2025) EllapsedTime: 125.6 seconds RetCode: 0 Status: OK PackageFile: tigre_1.61.0.tar.gz PackageFileSize: 318 KiB