Package: tigre Version: 1.61.0 Command: rm -rf tigre.buildbin-libdir && mkdir tigre.buildbin-libdir && /Users/biocbuild/BBS/utils/build-universal.sh tigre_1.61.0.tar.gz /Library/Frameworks/R.framework/Resources/bin/R tigre.buildbin-libdir StartedAt: 2025-02-21 00:57:25 -0500 (Fri, 21 Feb 2025) EndedAt: 2025-02-21 00:57:56 -0500 (Fri, 21 Feb 2025) EllapsedTime: 31.2 seconds RetCode: 0 Status: OK PackageFile: tigre_1.61.0.tgz PackageFileSize: 975.7 KiB