Package: tigre Version: 1.61.0 Command: /Library/Frameworks/R.framework/Resources/bin/R CMD INSTALL tigre StartedAt: 2025-02-20 15:09:25 -0500 (Thu, 20 Feb 2025) EndedAt: 2025-02-20 15:09:33 -0500 (Thu, 20 Feb 2025) EllapsedTime: 8.0 seconds RetCode: 0 Status: OK