Package: tigre Version: 1.61.0 Command: rm -rf tigre.buildbin-libdir && mkdir tigre.buildbin-libdir && /Users/biocbuild/BBS/utils/build-universal.sh tigre_1.61.0.tar.gz /Library/Frameworks/R.framework/Resources/bin/R tigre.buildbin-libdir StartedAt: 2025-02-20 22:38:04 -0500 (Thu, 20 Feb 2025) EndedAt: 2025-02-20 22:38:14 -0500 (Thu, 20 Feb 2025) EllapsedTime: 10.1 seconds RetCode: 0 Status: OK PackageFile: tigre_1.61.0.tgz PackageFileSize: 977.6 KiB